BEGIN:VCALENDAR
VERSION:2.0
PRODID:-//Sefif - ECPv6.15.20//NONSGML v1.0//EN
CALSCALE:GREGORIAN
METHOD:PUBLISH
X-WR-CALNAME:Sefif
X-ORIGINAL-URL:https://sefif.se
X-WR-CALDESC:Händelser för Sefif
REFRESH-INTERVAL;VALUE=DURATION:PT1H
X-Robots-Tag:noindex
X-PUBLISHED-TTL:PT1H
BEGIN:VTIMEZONE
TZID:Europe/Stockholm
BEGIN:DAYLIGHT
TZOFFSETFROM:+0100
TZOFFSETTO:+0200
TZNAME:CEST
DTSTART:20240331T010000
END:DAYLIGHT
BEGIN:STANDARD
TZOFFSETFROM:+0200
TZOFFSETTO:+0100
TZNAME:CET
DTSTART:20241027T010000
END:STANDARD
BEGIN:DAYLIGHT
TZOFFSETFROM:+0100
TZOFFSETTO:+0200
TZNAME:CEST
DTSTART:20250330T010000
END:DAYLIGHT
BEGIN:STANDARD
TZOFFSETFROM:+0200
TZOFFSETTO:+0100
TZNAME:CET
DTSTART:20251026T010000
END:STANDARD
BEGIN:DAYLIGHT
TZOFFSETFROM:+0100
TZOFFSETTO:+0200
TZNAME:CEST
DTSTART:20260329T010000
END:DAYLIGHT
BEGIN:STANDARD
TZOFFSETFROM:+0200
TZOFFSETTO:+0100
TZNAME:CET
DTSTART:20261025T010000
END:STANDARD
BEGIN:DAYLIGHT
TZOFFSETFROM:+0100
TZOFFSETTO:+0200
TZNAME:CEST
DTSTART:20270328T010000
END:DAYLIGHT
BEGIN:STANDARD
TZOFFSETFROM:+0200
TZOFFSETTO:+0100
TZNAME:CET
DTSTART:20271031T010000
END:STANDARD
END:VTIMEZONE
BEGIN:VEVENT
DTSTART;TZID=Europe/Stockholm:20250320T170000
DTEND;TZID=Europe/Stockholm:20250320T193000
DTSTAMP:20260423T102408
CREATED:20241216T165752Z
LAST-MODIFIED:20250311T084646Z
UID:2691-1742490000-1742499000@sefif.se
SUMMARY:Rörelse för lärande
DESCRIPTION:Om webinariet				\n				\n				\n				\n									1 januari 2027 väntas offentlighetsprincipen att träda kraft. Är du beredd och vet vad du behöver göra?  Om inte\, då är du välkommen på ett kostnadsfritt webinarium med skoljuristen Leif Olsson där han kommer prata om offentlighetsprincipen och vad den innebär för fristående förskolor.  Till denna föreläsning välkomnar vi både medlemmar och icke-medlemmar. 28 maj kl 16:00-17:15 Anmäl dig i formuläret. 								\n				\n				\n				\n																														\n				\n					\n		\n				\n			\n						\n				\n					Anmälan				\n				\n				\n				\n							\n                    Webinarium med Leif Olsson 28 majNamnE-postadressNamn / Företag / AvdelningOm din förskola tillhör en koncern\, ange vilkenSkicka
URL:https://sefif.se/event/rorelse-for-larande/
LOCATION:Rådmansgatan 40\, Rådmansgatan 40\, Stockholm
CATEGORIES:Evenemang
ATTACH;FMTTYPE=image/png:https://sefif.se/wp-content/uploads/2024/12/Bild1.png
END:VEVENT
BEGIN:VEVENT
DTSTART;TZID=Europe/Stockholm:20250512T160000
DTEND;TZID=Europe/Stockholm:20250512T170000
DTSTAMP:20260423T102408
CREATED:20250417T064322Z
LAST-MODIFIED:20250509T072402Z
UID:2865-1747065600-1747069200@sefif.se
SUMMARY:Digital inspirationsföreläsning med Ann S Pihlgren
DESCRIPTION:Om webinariet				\n				\n				\n				\n									1 januari 2027 väntas offentlighetsprincipen att träda kraft. Är du beredd och vet vad du behöver göra?  Om inte\, då är du välkommen på ett kostnadsfritt webinarium med skoljuristen Leif Olsson där han kommer prata om offentlighetsprincipen och vad den innebär för fristående förskolor.  Till denna föreläsning välkomnar vi både medlemmar och icke-medlemmar. 28 maj kl 16:00-17:15 Anmäl dig i formuläret. 								\n				\n				\n				\n																														\n				\n					\n		\n				\n			\n						\n				\n					Anmälan				\n				\n				\n				\n							\n                    Webinarium med Leif Olsson 28 majNamnE-postadressNamn / Företag / AvdelningOm din förskola tillhör en koncern\, ange vilkenSkicka
URL:https://sefif.se/event/digital-inspirationsforelasning-med-ann-s-pihlgren/
ATTACH;FMTTYPE=image/png:https://sefif.se/wp-content/uploads/2025/04/Skarmavbild-2025-04-17-kl.-08.20.55.png
END:VEVENT
BEGIN:VEVENT
DTSTART;TZID=Europe/Stockholm:20250527T100000
DTEND;TZID=Europe/Stockholm:20250527T120000
DTSTAMP:20260423T102408
CREATED:20241216T170424Z
LAST-MODIFIED:20250417T065308Z
UID:2706-1748340000-1748347200@sefif.se
SUMMARY:Årsmöte
DESCRIPTION:Om webinariet				\n				\n				\n				\n									1 januari 2027 väntas offentlighetsprincipen att träda kraft. Är du beredd och vet vad du behöver göra?  Om inte\, då är du välkommen på ett kostnadsfritt webinarium med skoljuristen Leif Olsson där han kommer prata om offentlighetsprincipen och vad den innebär för fristående förskolor.  Till denna föreläsning välkomnar vi både medlemmar och icke-medlemmar. 28 maj kl 16:00-17:15 Anmäl dig i formuläret. 								\n				\n				\n				\n																														\n				\n					\n		\n				\n			\n						\n				\n					Anmälan				\n				\n				\n				\n							\n                    Webinarium med Leif Olsson 28 majNamnE-postadressNamn / Företag / AvdelningOm din förskola tillhör en koncern\, ange vilkenSkicka
URL:https://sefif.se/event/arsmote/
CATEGORIES:Evenemang
ATTACH;FMTTYPE=image/jpeg:https://sefif.se/wp-content/uploads/2024/10/Foto-2024-08-23-11-24-12-scaled.jpg
END:VEVENT
BEGIN:VEVENT
DTSTART;TZID=Europe/Stockholm:20250610T160000
DTEND;TZID=Europe/Stockholm:20250610T183000
DTSTAMP:20260423T102408
CREATED:20250319T213015Z
LAST-MODIFIED:20250609T110737Z
UID:2809-1749571200-1749580200@sefif.se
SUMMARY:Sommaravslutning 10 juni
DESCRIPTION:Om webinariet				\n				\n				\n				\n									1 januari 2027 väntas offentlighetsprincipen att träda kraft. Är du beredd och vet vad du behöver göra?  Om inte\, då är du välkommen på ett kostnadsfritt webinarium med skoljuristen Leif Olsson där han kommer prata om offentlighetsprincipen och vad den innebär för fristående förskolor.  Till denna föreläsning välkomnar vi både medlemmar och icke-medlemmar. 28 maj kl 16:00-17:15 Anmäl dig i formuläret. 								\n				\n				\n				\n																														\n				\n					\n		\n				\n			\n						\n				\n					Anmälan				\n				\n				\n				\n							\n                    Webinarium med Leif Olsson 28 majNamnE-postadressNamn / Företag / AvdelningOm din förskola tillhör en koncern\, ange vilkenSkicka
URL:https://sefif.se/event/sommaravslutning-10-juni/
LOCATION:Teatergatan 3\, Stockholm\, 111 48\, Sverige
CATEGORIES:Evenemang
ATTACH;FMTTYPE=image/png:https://sefif.se/wp-content/uploads/2025/03/Sommaravslutning.png
END:VEVENT
BEGIN:VEVENT
DTSTART;TZID=Europe/Stockholm:20250916T170000
DTEND;TZID=Europe/Stockholm:20250916T181500
DTSTAMP:20260423T102408
CREATED:20250602T095237Z
LAST-MODIFIED:20250910T185600Z
UID:2971-1758042000-1758046500@sefif.se
SUMMARY:Webbinarium: Barn i behov av särskilt stöd - tilläggsbelopp - Hur gör man? - Anmälan är stängd
DESCRIPTION:Om webinariet				\n				\n				\n				\n									1 januari 2027 väntas offentlighetsprincipen att träda kraft. Är du beredd och vet vad du behöver göra?  Om inte\, då är du välkommen på ett kostnadsfritt webinarium med skoljuristen Leif Olsson där han kommer prata om offentlighetsprincipen och vad den innebär för fristående förskolor.  Till denna föreläsning välkomnar vi både medlemmar och icke-medlemmar. 28 maj kl 16:00-17:15 Anmäl dig i formuläret. 								\n				\n				\n				\n																														\n				\n					\n		\n				\n			\n						\n				\n					Anmälan				\n				\n				\n				\n							\n                    Webinarium med Leif Olsson 28 majNamnE-postadressNamn / Företag / AvdelningOm din förskola tillhör en koncern\, ange vilkenSkicka
URL:https://sefif.se/event/tillaggsbelopp/
CATEGORIES:Evenemang
ATTACH;FMTTYPE=image/jpeg:https://sefif.se/wp-content/uploads/2024/12/Outlook-profilbild.jpg
END:VEVENT
BEGIN:VEVENT
DTSTART;TZID=Europe/Stockholm:20251103T120000
DTEND;TZID=Europe/Stockholm:20251103T130000
DTSTAMP:20260423T102408
CREATED:20250910T191524Z
LAST-MODIFIED:20250930T085233Z
UID:3097-1762171200-1762174800@sefif.se
SUMMARY:Webbinarie Nyfiken på I Ur och Skur och Skogsmulle i förskolan
DESCRIPTION:Om webinariet				\n				\n				\n				\n									1 januari 2027 väntas offentlighetsprincipen att träda kraft. Är du beredd och vet vad du behöver göra?  Om inte\, då är du välkommen på ett kostnadsfritt webinarium med skoljuristen Leif Olsson där han kommer prata om offentlighetsprincipen och vad den innebär för fristående förskolor.  Till denna föreläsning välkomnar vi både medlemmar och icke-medlemmar. 28 maj kl 16:00-17:15 Anmäl dig i formuläret. 								\n				\n				\n				\n																														\n				\n					\n		\n				\n			\n						\n				\n					Anmälan				\n				\n				\n				\n							\n                    Webinarium med Leif Olsson 28 majNamnE-postadressNamn / Företag / AvdelningOm din förskola tillhör en koncern\, ange vilkenSkicka
URL:https://sefif.se/event/webbinarie-nyfiken-pa-i-ur-och-skur-och-skogsmulle-i-forskolan/
CATEGORIES:Evenemang,Sefif-träffar
ATTACH;FMTTYPE=image/png:https://sefif.se/wp-content/uploads/2025/09/Skarmavbild-2025-09-10-kl.-21.14.13.png
END:VEVENT
BEGIN:VEVENT
DTSTART;TZID=Europe/Stockholm:20251105T090000
DTEND;TZID=Europe/Stockholm:20251105T153000
DTSTAMP:20260423T102408
CREATED:20250917T141503Z
LAST-MODIFIED:20250917T144714Z
UID:3118-1762333200-1762356600@sefif.se
SUMMARY:Sefif tipsar! Beredskapsdagen – Kostnadsfri konferens
DESCRIPTION:Om webinariet				\n				\n				\n				\n									1 januari 2027 väntas offentlighetsprincipen att träda kraft. Är du beredd och vet vad du behöver göra?  Om inte\, då är du välkommen på ett kostnadsfritt webinarium med skoljuristen Leif Olsson där han kommer prata om offentlighetsprincipen och vad den innebär för fristående förskolor.  Till denna föreläsning välkomnar vi både medlemmar och icke-medlemmar. 28 maj kl 16:00-17:15 Anmäl dig i formuläret. 								\n				\n				\n				\n																														\n				\n					\n		\n				\n			\n						\n				\n					Anmälan				\n				\n				\n				\n							\n                    Webinarium med Leif Olsson 28 majNamnE-postadressNamn / Företag / AvdelningOm din förskola tillhör en koncern\, ange vilkenSkicka
URL:https://sefif.se/event/sefif-tipsar-beredskapsdagen-konferens/
CATEGORIES:Evenemang,Sefif-träffar
ATTACH;FMTTYPE=image/png:https://sefif.se/wp-content/uploads/2025/09/Skarmavbild-2025-09-17-kl.-16.46.15.png
END:VEVENT
BEGIN:VEVENT
DTSTART;TZID=Europe/Stockholm:20251121T090000
DTEND;TZID=Europe/Stockholm:20251121T100000
DTSTAMP:20260423T102408
CREATED:20251113T100818Z
LAST-MODIFIED:20251113T101010Z
UID:3321-1763715600-1763719200@sefif.se
SUMMARY:Sefif tipsar om webinar!
DESCRIPTION:Om webinariet				\n				\n				\n				\n									1 januari 2027 väntas offentlighetsprincipen att träda kraft. Är du beredd och vet vad du behöver göra?  Om inte\, då är du välkommen på ett kostnadsfritt webinarium med skoljuristen Leif Olsson där han kommer prata om offentlighetsprincipen och vad den innebär för fristående förskolor.  Till denna föreläsning välkomnar vi både medlemmar och icke-medlemmar. 28 maj kl 16:00-17:15 Anmäl dig i formuläret. 								\n				\n				\n				\n																														\n				\n					\n		\n				\n			\n						\n				\n					Anmälan				\n				\n				\n				\n							\n                    Webinarium med Leif Olsson 28 majNamnE-postadressNamn / Företag / AvdelningOm din förskola tillhör en koncern\, ange vilkenSkicka
URL:https://sefif.se/event/sefif-tipsar-om-webinar/
CATEGORIES:Evenemang
ATTACH;FMTTYPE=image/png:https://sefif.se/wp-content/uploads/2025/11/Skarmavbild-2025-11-13-kl.-10.57.23.png
END:VEVENT
BEGIN:VEVENT
DTSTART;TZID=Europe/Stockholm:20251125T090000
DTEND;TZID=Europe/Stockholm:20251125T160000
DTSTAMP:20260423T102408
CREATED:20250917T143743Z
LAST-MODIFIED:20250917T143830Z
UID:3125-1764061200-1764086400@sefif.se
SUMMARY:Sefif tipsar! Kostnadsfri konferens om lärande för hållbar utveckling 2025
DESCRIPTION:Om webinariet				\n				\n				\n				\n									1 januari 2027 väntas offentlighetsprincipen att träda kraft. Är du beredd och vet vad du behöver göra?  Om inte\, då är du välkommen på ett kostnadsfritt webinarium med skoljuristen Leif Olsson där han kommer prata om offentlighetsprincipen och vad den innebär för fristående förskolor.  Till denna föreläsning välkomnar vi både medlemmar och icke-medlemmar. 28 maj kl 16:00-17:15 Anmäl dig i formuläret. 								\n				\n				\n				\n																														\n				\n					\n		\n				\n			\n						\n				\n					Anmälan				\n				\n				\n				\n							\n                    Webinarium med Leif Olsson 28 majNamnE-postadressNamn / Företag / AvdelningOm din förskola tillhör en koncern\, ange vilkenSkicka
URL:https://sefif.se/event/sefif-tipsar-kostnadsfri-konferens-om-larande-for-hallbar-utveckling-2025/
ATTACH;FMTTYPE=image/png:https://sefif.se/wp-content/uploads/2023/08/2-1.png
END:VEVENT
BEGIN:VEVENT
DTSTART;TZID=Europe/Stockholm:20251204T160000
DTEND;TZID=Europe/Stockholm:20251204T174500
DTSTAMP:20260423T102408
CREATED:20251002T130649Z
LAST-MODIFIED:20251203T124735Z
UID:3175-1764864000-1764870300@sefif.se
SUMMARY:Webinar del 1 - Rörelseglädje och språkutveckling hand i hand
DESCRIPTION:Om webinariet				\n				\n				\n				\n									1 januari 2027 väntas offentlighetsprincipen att träda kraft. Är du beredd och vet vad du behöver göra?  Om inte\, då är du välkommen på ett kostnadsfritt webinarium med skoljuristen Leif Olsson där han kommer prata om offentlighetsprincipen och vad den innebär för fristående förskolor.  Till denna föreläsning välkomnar vi både medlemmar och icke-medlemmar. 28 maj kl 16:00-17:15 Anmäl dig i formuläret. 								\n				\n				\n				\n																														\n				\n					\n		\n				\n			\n						\n				\n					Anmälan				\n				\n				\n				\n							\n                    Webinarium med Leif Olsson 28 majNamnE-postadressNamn / Företag / AvdelningOm din förskola tillhör en koncern\, ange vilkenSkicka
URL:https://sefif.se/event/webinar-rorelsegladje-och-sprakutveckling-hand-i-hand/
CATEGORIES:Evenemang
ATTACH;FMTTYPE=image/jpeg:https://sefif.se/wp-content/uploads/2025/10/IMG_3693.jpg
END:VEVENT
BEGIN:VEVENT
DTSTART;TZID=Europe/Stockholm:20251211T160000
DTEND;TZID=Europe/Stockholm:20251211T170000
DTSTAMP:20260423T102408
CREATED:20251030T203556Z
LAST-MODIFIED:20251210T135238Z
UID:3282-1765468800-1765472400@sefif.se
SUMMARY:Gratis Webinar - Skapa goda och konstruktiva relationer med dina lokala politiker.
DESCRIPTION:Om webinariet				\n				\n				\n				\n									1 januari 2027 väntas offentlighetsprincipen att träda kraft. Är du beredd och vet vad du behöver göra?  Om inte\, då är du välkommen på ett kostnadsfritt webinarium med skoljuristen Leif Olsson där han kommer prata om offentlighetsprincipen och vad den innebär för fristående förskolor.  Till denna föreläsning välkomnar vi både medlemmar och icke-medlemmar. 28 maj kl 16:00-17:15 Anmäl dig i formuläret. 								\n				\n				\n				\n																														\n				\n					\n		\n				\n			\n						\n				\n					Anmälan				\n				\n				\n				\n							\n                    Webinarium med Leif Olsson 28 majNamnE-postadressNamn / Företag / AvdelningOm din förskola tillhör en koncern\, ange vilkenSkicka
URL:https://sefif.se/event/skapa-goda-och-konstruktiva-relationer-med-dina-lokala-politiker/
CATEGORIES:Evenemang
ATTACH;FMTTYPE=image/png:https://sefif.se/wp-content/uploads/2025/10/Denise-Cassel.png
END:VEVENT
BEGIN:VEVENT
DTSTART;TZID=Europe/Stockholm:20260205T160000
DTEND;TZID=Europe/Stockholm:20260205T170000
DTSTAMP:20260423T102408
CREATED:20251216T090621Z
LAST-MODIFIED:20260204T131459Z
UID:3390-1770307200-1770310800@sefif.se
SUMMARY:Ny förordning för kris och beredskap - En modern krisreglering för verksamheter på skolområdet. Det här innebär det för fristående huvudmän - Ett webinarium med Tina Wiklund
DESCRIPTION:Om webinariet				\n				\n				\n				\n									1 januari 2027 väntas offentlighetsprincipen att träda kraft. Är du beredd och vet vad du behöver göra?  Om inte\, då är du välkommen på ett kostnadsfritt webinarium med skoljuristen Leif Olsson där han kommer prata om offentlighetsprincipen och vad den innebär för fristående förskolor.  Till denna föreläsning välkomnar vi både medlemmar och icke-medlemmar. 28 maj kl 16:00-17:15 Anmäl dig i formuläret. 								\n				\n				\n				\n																														\n				\n					\n		\n				\n			\n						\n				\n					Anmälan				\n				\n				\n				\n							\n                    Webinarium med Leif Olsson 28 majNamnE-postadressNamn / Företag / AvdelningOm din förskola tillhör en koncern\, ange vilkenSkicka
URL:https://sefif.se/event/webinarium-med-tina-wiklund/
CATEGORIES:Evenemang
ATTACH;FMTTYPE=image/jpeg:https://sefif.se/wp-content/uploads/2025/12/Tina-Wiklund-e1765877670524.jpg
END:VEVENT
BEGIN:VEVENT
DTSTART;TZID=Europe/Stockholm:20260212T160000
DTEND;TZID=Europe/Stockholm:20260212T174500
DTSTAMP:20260423T102408
CREATED:20251002T131656Z
LAST-MODIFIED:20260211T123307Z
UID:3183-1770912000-1770918300@sefif.se
SUMMARY:Webinar del 2 - Lärverktyg som gör skillnad-mellan forskning och vardagspraktik
DESCRIPTION:Om webinariet				\n				\n				\n				\n									1 januari 2027 väntas offentlighetsprincipen att träda kraft. Är du beredd och vet vad du behöver göra?  Om inte\, då är du välkommen på ett kostnadsfritt webinarium med skoljuristen Leif Olsson där han kommer prata om offentlighetsprincipen och vad den innebär för fristående förskolor.  Till denna föreläsning välkomnar vi både medlemmar och icke-medlemmar. 28 maj kl 16:00-17:15 Anmäl dig i formuläret. 								\n				\n				\n				\n																														\n				\n					\n		\n				\n			\n						\n				\n					Anmälan				\n				\n				\n				\n							\n                    Webinarium med Leif Olsson 28 majNamnE-postadressNamn / Företag / AvdelningOm din förskola tillhör en koncern\, ange vilkenSkicka
URL:https://sefif.se/event/webinar-larverktyg-som-gor-skillnad-mellan-forskning-och-vardagspraktik/
CATEGORIES:Evenemang
ATTACH;FMTTYPE=image/jpeg:https://sefif.se/wp-content/uploads/2025/10/IMG_3693.jpg
END:VEVENT
BEGIN:VEVENT
DTSTART;TZID=Europe/Stockholm:20260312T090000
DTEND;TZID=Europe/Stockholm:20260312T163000
DTSTAMP:20260423T102408
CREATED:20250602T092646Z
LAST-MODIFIED:20260224T193751Z
UID:2969-1773306000-1773333000@sefif.se
SUMMARY:Chefsdagen 2026
DESCRIPTION:Om webinariet				\n				\n				\n				\n									1 januari 2027 väntas offentlighetsprincipen att träda kraft. Är du beredd och vet vad du behöver göra?  Om inte\, då är du välkommen på ett kostnadsfritt webinarium med skoljuristen Leif Olsson där han kommer prata om offentlighetsprincipen och vad den innebär för fristående förskolor.  Till denna föreläsning välkomnar vi både medlemmar och icke-medlemmar. 28 maj kl 16:00-17:15 Anmäl dig i formuläret. 								\n				\n				\n				\n																														\n				\n					\n		\n				\n			\n						\n				\n					Anmälan				\n				\n				\n				\n							\n                    Webinarium med Leif Olsson 28 majNamnE-postadressNamn / Företag / AvdelningOm din förskola tillhör en koncern\, ange vilkenSkicka
URL:https://sefif.se/event/chefsdagen-2026/
LOCATION:Sergelkonferensen\, Mäster Samuelsgatan 42\, Stockholm\, 11157\, Sweden
CATEGORIES:Evenemang
ATTACH;FMTTYPE=image/png:https://sefif.se/wp-content/uploads/2025/06/Chefsdagen-2026-Facebook-inlagg-1.png
END:VEVENT
BEGIN:VEVENT
DTSTART;TZID=Europe/Stockholm:20260325T150000
DTEND;TZID=Europe/Stockholm:20260325T160000
DTSTAMP:20260423T102408
CREATED:20260122T103310Z
LAST-MODIFIED:20260122T103400Z
UID:3493-1774450800-1774454400@sefif.se
SUMMARY:Sefif tipsar - webinarium med Psykologiakademin
DESCRIPTION:Om webinariet				\n				\n				\n				\n									1 januari 2027 väntas offentlighetsprincipen att träda kraft. Är du beredd och vet vad du behöver göra?  Om inte\, då är du välkommen på ett kostnadsfritt webinarium med skoljuristen Leif Olsson där han kommer prata om offentlighetsprincipen och vad den innebär för fristående förskolor.  Till denna föreläsning välkomnar vi både medlemmar och icke-medlemmar. 28 maj kl 16:00-17:15 Anmäl dig i formuläret. 								\n				\n				\n				\n																														\n				\n					\n		\n				\n			\n						\n				\n					Anmälan				\n				\n				\n				\n							\n                    Webinarium med Leif Olsson 28 majNamnE-postadressNamn / Företag / AvdelningOm din förskola tillhör en koncern\, ange vilkenSkicka
URL:https://sefif.se/event/sefif-tipsar-webinarium-med-psykologiakademin/
CATEGORIES:Evenemang
ATTACH;FMTTYPE=image/png:https://sefif.se/wp-content/uploads/2026/01/Tack-for-den-har-terminen-kara-medlemmar-Vi-onskar-er-alla-fina-helger-och-lediga-dagar-kopia-2.png
END:VEVENT
BEGIN:VEVENT
DTSTART;TZID=Europe/Stockholm:20260504T170000
DTEND;TZID=Europe/Stockholm:20260504T180000
DTSTAMP:20260423T102408
CREATED:20260320T102106Z
LAST-MODIFIED:20260326T082247Z
UID:3808-1777914000-1777917600@sefif.se
SUMMARY:Litteracitet i förskolan- webinar med Kristina Lundmark
DESCRIPTION:Om webinariet				\n				\n				\n				\n									1 januari 2027 väntas offentlighetsprincipen att träda kraft. Är du beredd och vet vad du behöver göra?  Om inte\, då är du välkommen på ett kostnadsfritt webinarium med skoljuristen Leif Olsson där han kommer prata om offentlighetsprincipen och vad den innebär för fristående förskolor.  Till denna föreläsning välkomnar vi både medlemmar och icke-medlemmar. 28 maj kl 16:00-17:15 Anmäl dig i formuläret. 								\n				\n				\n				\n																														\n				\n					\n		\n				\n			\n						\n				\n					Anmälan				\n				\n				\n				\n							\n                    Webinarium med Leif Olsson 28 majNamnE-postadressNamn / Företag / AvdelningOm din förskola tillhör en koncern\, ange vilkenSkicka
URL:https://sefif.se/event/litteracitet-i-forskolan-webinar-med-kristina-lundmark/
ATTACH;FMTTYPE=image/jpeg:https://sefif.se/wp-content/uploads/2026/03/IMG_5264-e1774513122742.jpg
END:VEVENT
BEGIN:VEVENT
DTSTART;TZID=Europe/Stockholm:20260521T100000
DTEND;TZID=Europe/Stockholm:20260521T113000
DTSTAMP:20260423T102408
CREATED:20260310T135412Z
LAST-MODIFIED:20260326T092409Z
UID:3758-1779357600-1779363000@sefif.se
SUMMARY:Årsmöte Sefif - digitalt
DESCRIPTION:Om webinariet				\n				\n				\n				\n									1 januari 2027 väntas offentlighetsprincipen att träda kraft. Är du beredd och vet vad du behöver göra?  Om inte\, då är du välkommen på ett kostnadsfritt webinarium med skoljuristen Leif Olsson där han kommer prata om offentlighetsprincipen och vad den innebär för fristående förskolor.  Till denna föreläsning välkomnar vi både medlemmar och icke-medlemmar. 28 maj kl 16:00-17:15 Anmäl dig i formuläret. 								\n				\n				\n				\n																														\n				\n					\n		\n				\n			\n						\n				\n					Anmälan				\n				\n				\n				\n							\n                    Webinarium med Leif Olsson 28 majNamnE-postadressNamn / Företag / AvdelningOm din förskola tillhör en koncern\, ange vilkenSkicka
URL:https://sefif.se/event/arsmote-sefif-digitalt/
CATEGORIES:Evenemang
ATTACH;FMTTYPE=image/png:https://sefif.se/wp-content/uploads/2023/08/Namnlös-design-kopia-2.png
END:VEVENT
BEGIN:VEVENT
DTSTART;TZID=Europe/Stockholm:20260521T154500
DTEND;TZID=Europe/Stockholm:20260521T163000
DTSTAMP:20260423T102408
CREATED:20260320T081157Z
LAST-MODIFIED:20260326T093255Z
UID:3792-1779378300-1779381000@sefif.se
SUMMARY:Digital föreläsning med Ann S Pihlgren
DESCRIPTION:Om webinariet				\n				\n				\n				\n									1 januari 2027 väntas offentlighetsprincipen att träda kraft. Är du beredd och vet vad du behöver göra?  Om inte\, då är du välkommen på ett kostnadsfritt webinarium med skoljuristen Leif Olsson där han kommer prata om offentlighetsprincipen och vad den innebär för fristående förskolor.  Till denna föreläsning välkomnar vi både medlemmar och icke-medlemmar. 28 maj kl 16:00-17:15 Anmäl dig i formuläret. 								\n				\n				\n				\n																														\n				\n					\n		\n				\n			\n						\n				\n					Anmälan				\n				\n				\n				\n							\n                    Webinarium med Leif Olsson 28 majNamnE-postadressNamn / Företag / AvdelningOm din förskola tillhör en koncern\, ange vilkenSkicka
URL:https://sefif.se/event/digital-forelasning-med-ann-s-pihlgren/
CATEGORIES:Evenemang
ATTACH;FMTTYPE=image/jpeg:https://sefif.se/wp-content/uploads/2026/03/IMG_5831-e1773995054925.jpg
END:VEVENT
BEGIN:VEVENT
DTSTART;TZID=Europe/Stockholm:20260528T160000
DTEND;TZID=Europe/Stockholm:20260528T171500
DTSTAMP:20260423T102408
CREATED:20260413T095616Z
LAST-MODIFIED:20260413T105220Z
UID:3906-1779984000-1779988500@sefif.se
SUMMARY:Webinarium med Leif Olsson - offentlighetsprincipen
DESCRIPTION:Om webinariet				\n				\n				\n				\n									1 januari 2027 väntas offentlighetsprincipen att träda kraft. Är du beredd och vet vad du behöver göra?  Om inte\, då är du välkommen på ett kostnadsfritt webinarium med skoljuristen Leif Olsson där han kommer prata om offentlighetsprincipen och vad den innebär för fristående förskolor.  Till denna föreläsning välkomnar vi både medlemmar och icke-medlemmar. 28 maj kl 16:00-17:15 Anmäl dig i formuläret. 								\n				\n				\n				\n																														\n				\n					\n		\n				\n			\n						\n				\n					Anmälan				\n				\n				\n				\n							\n                    Webinarium med Leif Olsson 28 majNamnE-postadressNamn / Företag / AvdelningOm din förskola tillhör en koncern\, ange vilkenSkicka
URL:https://sefif.se/event/webinarium-med-leif-olsson/
CATEGORIES:Evenemang
ATTACH;FMTTYPE=image/jpeg:https://sefif.se/wp-content/uploads/2026/04/IMG_5949.jpg
END:VEVENT
BEGIN:VEVENT
DTSTART;TZID=Europe/Stockholm:20260616T160000
DTEND;TZID=Europe/Stockholm:20260616T190000
DTSTAMP:20260423T102408
CREATED:20260320T102939Z
LAST-MODIFIED:20260320T103416Z
UID:3816-1781625600-1781636400@sefif.se
SUMMARY:Sefifs sommaravslutning
DESCRIPTION:Om webinariet				\n				\n				\n				\n									1 januari 2027 väntas offentlighetsprincipen att träda kraft. Är du beredd och vet vad du behöver göra?  Om inte\, då är du välkommen på ett kostnadsfritt webinarium med skoljuristen Leif Olsson där han kommer prata om offentlighetsprincipen och vad den innebär för fristående förskolor.  Till denna föreläsning välkomnar vi både medlemmar och icke-medlemmar. 28 maj kl 16:00-17:15 Anmäl dig i formuläret. 								\n				\n				\n				\n																														\n				\n					\n		\n				\n			\n						\n				\n					Anmälan				\n				\n				\n				\n							\n                    Webinarium med Leif Olsson 28 majNamnE-postadressNamn / Företag / AvdelningOm din förskola tillhör en koncern\, ange vilkenSkicka
URL:https://sefif.se/event/sefifs-sommaravslutning/
CATEGORIES:Evenemang
ATTACH;FMTTYPE=image/png:https://sefif.se/wp-content/uploads/2026/03/Sommaravslutning.png
END:VEVENT
END:VCALENDAR